Package: BioNet Version: 1.66.0 Command: /home/biocbuild/R/R/bin/R CMD INSTALL BioNet StartedAt: 2025-01-27 21:16:34 -0000 (Mon, 27 Jan 2025) EndedAt: 2025-01-27 21:16:52 -0000 (Mon, 27 Jan 2025) EllapsedTime: 17.7 seconds RetCode: 0 Status: OK