Package: BioNet Version: 1.66.0 Command: chmod a+r BioNet -R && F:\biocbuild\bbs-3.20-bioc\R\bin\R.exe CMD build --keep-empty-dirs --no-resave-data BioNet StartedAt: 2025-03-31 17:39:34 -0400 (Mon, 31 Mar 2025) EndedAt: 2025-03-31 17:41:15 -0400 (Mon, 31 Mar 2025) EllapsedTime: 101.5 seconds RetCode: 0 Status: OK PackageFile: BioNet_1.66.0.tar.gz PackageFileSize: 1.612 MiB