Package: BioNet Version: 1.66.0 Command: /Library/Frameworks/R.framework/Resources/bin/R CMD INSTALL BioNet StartedAt: 2025-02-03 15:34:30 -0500 (Mon, 03 Feb 2025) EndedAt: 2025-02-03 15:35:01 -0500 (Mon, 03 Feb 2025) EllapsedTime: 31.5 seconds RetCode: 0 Status: OK