Package: BioNet Version: 1.66.0 Command: /Library/Frameworks/R.framework/Resources/bin/R CMD build --keep-empty-dirs --no-resave-data BioNet StartedAt: 2025-01-27 19:42:24 -0500 (Mon, 27 Jan 2025) EndedAt: 2025-01-27 19:43:30 -0500 (Mon, 27 Jan 2025) EllapsedTime: 66.5 seconds RetCode: 0 Status: OK PackageFile: BioNet_1.66.0.tar.gz PackageFileSize: 1.801 MiB