Package: BioNERO Version: 1.14.0 Command: /home/biocbuild/R/R/bin/R CMD build --keep-empty-dirs --no-resave-data BioNERO StartedAt: 2025-02-03 22:07:19 -0000 (Mon, 03 Feb 2025) EndedAt: 2025-02-03 22:13:07 -0000 (Mon, 03 Feb 2025) EllapsedTime: 347.1 seconds RetCode: 0 Status: OK PackageFile: BioNERO_1.14.0.tar.gz PackageFileSize: 3.957 MiB