Package: BioNERO Version: 1.14.0 Command: rm -rf BioNERO.buildbin-libdir && mkdir BioNERO.buildbin-libdir && F:\biocbuild\bbs-3.20-bioc\R\bin\R.exe CMD INSTALL --build --library=BioNERO.buildbin-libdir BioNERO_1.14.0.tar.gz StartedAt: 2025-01-28 07:45:09 -0500 (Tue, 28 Jan 2025) EndedAt: 2025-01-28 07:46:18 -0500 (Tue, 28 Jan 2025) EllapsedTime: 69.7 seconds RetCode: 0 Status: OK PackageFile: BioNERO_1.14.0.zip PackageFileSize: 3.885 MiB