Package: BioNERO Version: 1.14.0 Command: /home/biocbuild/bbs-3.20-bioc/R/bin/R CMD build --keep-empty-dirs --no-resave-data --md5 BioNERO StartedAt: 2025-03-31 16:25:10 -0400 (Mon, 31 Mar 2025) EndedAt: 2025-03-31 16:29:52 -0400 (Mon, 31 Mar 2025) EllapsedTime: 282.3 seconds RetCode: 0 Status: OK PackageFile: BioNERO_1.14.0.tar.gz PackageFileSize: 4.796 MiB