Package: BioNERO Version: 1.14.0 Command: /Library/Frameworks/R.framework/Resources/bin/R CMD build --keep-empty-dirs --no-resave-data BioNERO StartedAt: 2025-02-03 17:26:54 -0500 (Mon, 03 Feb 2025) EndedAt: 2025-02-03 17:35:22 -0500 (Mon, 03 Feb 2025) EllapsedTime: 508.4 seconds RetCode: 0 Status: OK PackageFile: BioNERO_1.14.0.tar.gz PackageFileSize: 4.904 MiB