Package: BioNERO Version: 1.14.0 Command: rm -rf BioNERO.buildbin-libdir && mkdir BioNERO.buildbin-libdir && /Users/biocbuild/BBS/utils/build-universal.sh BioNERO_1.14.0.tar.gz /Library/Frameworks/R.framework/Resources/bin/R BioNERO.buildbin-libdir StartedAt: 2025-02-04 12:32:58 -0500 (Tue, 04 Feb 2025) EndedAt: 2025-02-04 12:34:16 -0500 (Tue, 04 Feb 2025) EllapsedTime: 78.1 seconds RetCode: 0 Status: OK PackageFile: BioNERO_1.14.0.tgz PackageFileSize: 5.077 MiB