Package: BioNAR Version: 1.8.1 Command: /home/biocbuild/R/R/bin/R CMD INSTALL BioNAR StartedAt: 2025-03-31 20:52:47 -0000 (Mon, 31 Mar 2025) EndedAt: 2025-03-31 20:53:21 -0000 (Mon, 31 Mar 2025) EllapsedTime: 33.6 seconds RetCode: 0 Status: OK