Package: BioNAR Version: 1.8.1 Command: /home/biocbuild/R/R/bin/R CMD build --keep-empty-dirs --no-resave-data BioNAR StartedAt: 2025-03-31 21:49:29 -0000 (Mon, 31 Mar 2025) EndedAt: 2025-03-31 21:52:38 -0000 (Mon, 31 Mar 2025) EllapsedTime: 189.0 seconds RetCode: 0 Status: OK PackageFile: BioNAR_1.8.1.tar.gz PackageFileSize: 3.413 MiB