Package: BioNAR Version: 1.8.1 Command: F:\biocbuild\bbs-3.20-bioc\R\bin\R.exe CMD INSTALL BioNAR StartedAt: 2025-03-31 16:32:50 -0400 (Mon, 31 Mar 2025) EndedAt: 2025-03-31 16:34:10 -0400 (Mon, 31 Mar 2025) EllapsedTime: 79.7 seconds RetCode: 0 Status: OK