Package: BioMVCClass Version: 1.74.0 Command: /Library/Frameworks/R.framework/Resources/bin/R CMD check --install=check:BioMVCClass.install-out.txt --library=/Library/Frameworks/R.framework/Resources/library --no-vignettes --timings BioMVCClass_1.74.0.tar.gz StartedAt: 2025-01-28 12:25:39 -0500 (Tue, 28 Jan 2025) EndedAt: 2025-01-28 12:26:18 -0500 (Tue, 28 Jan 2025) EllapsedTime: 38.7 seconds RetCode: 0 Status: OK CheckDir: BioMVCClass.Rcheck Warnings: 0