Package: BioMVCClass Version: 1.74.0 Command: /Library/Frameworks/R.framework/Resources/bin/R CMD build --keep-empty-dirs --no-resave-data BioMVCClass StartedAt: 2025-01-27 19:41:52 -0500 (Mon, 27 Jan 2025) EndedAt: 2025-01-27 19:42:02 -0500 (Mon, 27 Jan 2025) EllapsedTime: 10.3 seconds RetCode: 0 Status: OK PackageFile: BioMVCClass_1.74.0.tar.gz PackageFileSize: 131.3 KiB