Package: BioGA Version: 0.99.6 Command: C:\Users\biocbuild\bbs-3.20-bioc\R\bin\R.exe CMD check --no-multiarch --install=check:BioGA.install-out.txt --library=C:\Users\biocbuild\bbs-3.20-bioc\R\library --no-vignettes --timings BioGA_0.99.6.tar.gz StartedAt: 2024-07-15 22:10:16 -0400 (Mon, 15 Jul 2024) EndedAt: 2024-07-15 22:13:32 -0400 (Mon, 15 Jul 2024) EllapsedTime: 195.8 seconds RetCode: 0 Status: OK CheckDir: BioGA.Rcheck Warnings: 0