Package: BioGA Version: 1.0.0 Command: /Library/Frameworks/R.framework/Resources/bin/R CMD INSTALL BioGA StartedAt: 2025-02-03 16:03:35 -0500 (Mon, 03 Feb 2025) EndedAt: 2025-02-03 16:05:05 -0500 (Mon, 03 Feb 2025) EllapsedTime: 90.1 seconds RetCode: 0 Status: OK