Package: BioGA Version: 1.0.0 Command: rm -rf BioGA.buildbin-libdir && mkdir BioGA.buildbin-libdir && /Users/biocbuild/BBS/utils/build-universal.sh BioGA_1.0.0.tar.gz /Library/Frameworks/R.framework/Resources/bin/R BioGA.buildbin-libdir StartedAt: 2025-01-29 13:49:02 -0500 (Wed, 29 Jan 2025) EndedAt: 2025-01-29 13:49:52 -0500 (Wed, 29 Jan 2025) EllapsedTime: 49.9 seconds RetCode: 0 Status: OK PackageFile: BioGA_1.0.0.tgz PackageFileSize: 356.4 KiB