Package: BioCartaImage Version: 1.4.0 Command: /home/biocbuild/R/R/bin/R CMD INSTALL BioCartaImage StartedAt: 2024-11-19 20:28:47 -0000 (Tue, 19 Nov 2024) EndedAt: 2024-11-19 20:29:16 -0000 (Tue, 19 Nov 2024) EllapsedTime: 29.3 seconds RetCode: 0 Status: OK