Package: BindingSiteFinder Version: 2.4.0 Command: /home/biocbuild/R/R/bin/R CMD check --install=check:BindingSiteFinder.install-out.txt --library=/home/biocbuild/R/R/site-library --no-vignettes --timings BindingSiteFinder_2.4.0.tar.gz StartedAt: 2025-04-01 04:12:41 -0000 (Tue, 01 Apr 2025) EndedAt: 2025-04-01 04:39:06 -0000 (Tue, 01 Apr 2025) EllapsedTime: 1584.8 seconds RetCode: 1 Status: ERROR CheckDir: BindingSiteFinder.Rcheck Warnings: NA