Package: BindingSiteFinder Version: 2.4.0 Command: /home/biocbuild/R/R/bin/R CMD build --keep-empty-dirs --no-resave-data BindingSiteFinder StartedAt: 2025-03-31 21:42:49 -0000 (Mon, 31 Mar 2025) EndedAt: 2025-03-31 21:46:30 -0000 (Mon, 31 Mar 2025) EllapsedTime: 221.1 seconds RetCode: 0 Status: OK PackageFile: BindingSiteFinder_2.4.0.tar.gz PackageFileSize: 2.216 MiB