Package: BindingSiteFinder Version: 2.4.0 Command: /Library/Frameworks/R.framework/Resources/bin/R CMD INSTALL BindingSiteFinder StartedAt: 2025-01-27 16:38:21 -0500 (Mon, 27 Jan 2025) EndedAt: 2025-01-27 16:39:12 -0500 (Mon, 27 Jan 2025) EllapsedTime: 51.3 seconds RetCode: 0 Status: OK