Package: BicARE Version: 1.64.0 Command: /home/biocbuild/R/R/bin/R CMD INSTALL BicARE StartedAt: 2025-02-03 21:09:24 -0000 (Mon, 03 Feb 2025) EndedAt: 2025-02-03 21:09:48 -0000 (Mon, 03 Feb 2025) EllapsedTime: 24.0 seconds RetCode: 0 Status: OK