Package: BicARE Version: 1.64.0 Command: /home/biocbuild/R/R/bin/R CMD build --keep-empty-dirs --no-resave-data BicARE StartedAt: 2025-02-03 21:57:11 -0000 (Mon, 03 Feb 2025) EndedAt: 2025-02-03 22:00:14 -0000 (Mon, 03 Feb 2025) EllapsedTime: 183.0 seconds RetCode: 0 Status: OK PackageFile: BicARE_1.64.0.tar.gz PackageFileSize: 451.1 KiB