Package: BicARE Version: 1.64.0 Command: chmod a+r BicARE -R && F:\biocbuild\bbs-3.20-bioc\R\bin\R.exe CMD build --keep-empty-dirs --no-resave-data BicARE StartedAt: 2025-02-03 17:41:29 -0500 (Mon, 03 Feb 2025) EndedAt: 2025-02-03 17:44:50 -0500 (Mon, 03 Feb 2025) EllapsedTime: 200.8 seconds RetCode: 0 Status: OK PackageFile: BicARE_1.64.0.tar.gz PackageFileSize: 331.2 KiB