Package: BicARE Version: 1.64.0 Command: /home/biocbuild/bbs-3.20-bioc/R/bin/R CMD check --install=check:BicARE.install-out.txt --library=/home/biocbuild/bbs-3.20-bioc/R/site-library --timings BicARE_1.64.0.tar.gz StartedAt: 2025-02-10 20:13:15 -0500 (Mon, 10 Feb 2025) EndedAt: 2025-02-10 20:17:11 -0500 (Mon, 10 Feb 2025) EllapsedTime: 236.2 seconds RetCode: 0 Status: OK CheckDir: BicARE.Rcheck Warnings: 0