Package: BicARE Version: 1.64.0 Command: /Library/Frameworks/R.framework/Resources/bin/R CMD check --install=check:BicARE.install-out.txt --library=/Library/Frameworks/R.framework/Resources/library --no-vignettes --timings BicARE_1.64.0.tar.gz StartedAt: 2025-02-04 00:10:20 -0500 (Tue, 04 Feb 2025) EndedAt: 2025-02-04 00:34:36 -0500 (Tue, 04 Feb 2025) EllapsedTime: 1455.9 seconds RetCode: 0 Status: OK CheckDir: BicARE.Rcheck Warnings: 0