Package: BicARE Version: 1.64.0 Command: /Library/Frameworks/R.framework/Resources/bin/R CMD INSTALL BicARE StartedAt: 2025-02-03 17:23:03 -0500 (Mon, 03 Feb 2025) EndedAt: 2025-02-03 17:23:25 -0500 (Mon, 03 Feb 2025) EllapsedTime: 22.5 seconds RetCode: 0 Status: OK