Package: BicARE Version: 1.64.0 Command: /Library/Frameworks/R.framework/Resources/bin/R CMD check --install=check:BicARE.install-out.txt --library=/Library/Frameworks/R.framework/Resources/library --no-vignettes --timings BicARE_1.64.0.tar.gz StartedAt: 2025-02-04 12:28:17 -0500 (Tue, 04 Feb 2025) EndedAt: 2025-02-04 12:36:58 -0500 (Tue, 04 Feb 2025) EllapsedTime: 520.8 seconds RetCode: 0 Status: OK CheckDir: BicARE.Rcheck Warnings: 0