Package: BiSeq Version: 1.46.0 Command: /home/biocbuild/R/R/bin/R CMD INSTALL BiSeq StartedAt: 2025-02-10 20:55:18 -0000 (Mon, 10 Feb 2025) EndedAt: 2025-02-10 20:56:12 -0000 (Mon, 10 Feb 2025) EllapsedTime: 53.6 seconds RetCode: 0 Status: OK