Package: BiSeq Version: 1.46.0 Command: /home/biocbuild/R/R/bin/R CMD build --keep-empty-dirs --no-resave-data BiSeq StartedAt: 2025-02-10 21:56:13 -0000 (Mon, 10 Feb 2025) EndedAt: 2025-02-10 21:58:51 -0000 (Mon, 10 Feb 2025) EllapsedTime: 158.0 seconds RetCode: 0 Status: OK PackageFile: BiSeq_1.46.0.tar.gz PackageFileSize: 909.1 KiB