Package: BiSeq Version: 1.46.0 Command: F:\biocbuild\bbs-3.20-bioc\R\bin\R.exe CMD check --no-multiarch --install=check:BiSeq.install-out.txt --library=F:\biocbuild\bbs-3.20-bioc\R\library --no-vignettes --timings BiSeq_1.46.0.tar.gz StartedAt: 2025-03-31 23:30:23 -0400 (Mon, 31 Mar 2025) EndedAt: 2025-03-31 23:37:07 -0400 (Mon, 31 Mar 2025) EllapsedTime: 404.6 seconds RetCode: 0 Status: OK CheckDir: BiSeq.Rcheck Warnings: 0