Package: BiSeq Version: 1.46.0 Command: rm -rf BiSeq.buildbin-libdir && mkdir BiSeq.buildbin-libdir && F:\biocbuild\bbs-3.20-bioc\R\bin\R.exe CMD INSTALL --build --library=BiSeq.buildbin-libdir BiSeq_1.46.0.tar.gz StartedAt: 2025-04-01 07:47:05 -0400 (Tue, 01 Apr 2025) EndedAt: 2025-04-01 07:48:35 -0400 (Tue, 01 Apr 2025) EllapsedTime: 89.9 seconds RetCode: 0 Status: OK PackageFile: BiSeq_1.46.0.zip PackageFileSize: 1.164 MiB