Package: BiSeq Version: 1.46.0 Command: /home/biocbuild/bbs-3.20-bioc/R/bin/R CMD INSTALL BiSeq StartedAt: 2025-03-31 15:47:46 -0400 (Mon, 31 Mar 2025) EndedAt: 2025-03-31 15:48:25 -0400 (Mon, 31 Mar 2025) EllapsedTime: 39.3 seconds RetCode: 0 Status: OK