Package: BiSeq Version: 1.46.0 Command: /Library/Frameworks/R.framework/Resources/bin/R CMD check --install=check:BiSeq.install-out.txt --library=/Library/Frameworks/R.framework/Resources/library --no-vignettes --timings BiSeq_1.46.0.tar.gz StartedAt: 2025-04-01 12:27:09 -0400 (Tue, 01 Apr 2025) EndedAt: 2025-04-01 12:33:02 -0400 (Tue, 01 Apr 2025) EllapsedTime: 352.8 seconds RetCode: 0 Status: OK CheckDir: BiSeq.Rcheck Warnings: 0