Package: BiRewire Version: 3.38.0 Command: /home/biocbuild/bbs-3.20-bioc/R/bin/R CMD INSTALL BiRewire StartedAt: 2025-01-27 15:58:04 -0500 (Mon, 27 Jan 2025) EndedAt: 2025-01-27 15:58:15 -0500 (Mon, 27 Jan 2025) EllapsedTime: 10.3 seconds RetCode: 0 Status: OK