Package: BiRewire Version: 3.38.0 Command: /home/biocbuild/bbs-3.20-bioc/R/bin/R CMD build --keep-empty-dirs --no-resave-data --md5 BiRewire StartedAt: 2025-01-27 17:22:17 -0500 (Mon, 27 Jan 2025) EndedAt: 2025-01-27 17:23:05 -0500 (Mon, 27 Jan 2025) EllapsedTime: 48.0 seconds RetCode: 0 Status: OK PackageFile: BiRewire_3.38.0.tar.gz PackageFileSize: 727.5 KiB