Package: BiGGR Version: 1.42.0 Command: /home/biocbuild/R/R/bin/R CMD INSTALL BiGGR StartedAt: 2025-01-30 20:11:54 -0000 (Thu, 30 Jan 2025) EndedAt: 2025-01-30 20:12:35 -0000 (Thu, 30 Jan 2025) EllapsedTime: 40.2 seconds RetCode: 1 Status: ERROR