Package: BiGGR Version: 1.42.0 Command: /home/biocbuild/R/R/bin/R CMD build --keep-empty-dirs --no-resave-data BiGGR StartedAt: 2025-01-30 21:55:01 -0000 (Thu, 30 Jan 2025) EndedAt: 2025-01-30 21:55:02 -0000 (Thu, 30 Jan 2025) EllapsedTime: 1.0 seconds RetCode: 1 Status: ERROR PackageFile: None PackageFileSize: NA