Package: BiGGR Version: 1.42.0 Command: F:\biocbuild\bbs-3.20-bioc\R\bin\R.exe CMD INSTALL BiGGR StartedAt: 2025-01-27 16:26:25 -0500 (Mon, 27 Jan 2025) EndedAt: 2025-01-27 16:26:47 -0500 (Mon, 27 Jan 2025) EllapsedTime: 21.4 seconds RetCode: 0 Status: OK