Package: BiGGR Version: 1.42.0 Command: rm -rf BiGGR.buildbin-libdir && mkdir BiGGR.buildbin-libdir && F:\biocbuild\bbs-3.20-bioc\R\bin\R.exe CMD INSTALL --build --library=BiGGR.buildbin-libdir BiGGR_1.42.0.tar.gz StartedAt: 2025-01-28 07:42:33 -0500 (Tue, 28 Jan 2025) EndedAt: 2025-01-28 07:42:59 -0500 (Tue, 28 Jan 2025) EllapsedTime: 26.5 seconds RetCode: 0 Status: OK PackageFile: BiGGR_1.42.0.zip PackageFileSize: 4.275 MiB