Package: BiGGR Version: 1.42.0 Command: /home/biocbuild/bbs-3.20-bioc/R/bin/R CMD check --install=check:BiGGR.install-out.txt --library=/home/biocbuild/bbs-3.20-bioc/R/site-library --timings BiGGR_1.42.0.tar.gz StartedAt: 2025-03-31 20:09:30 -0400 (Mon, 31 Mar 2025) EndedAt: 2025-03-31 20:12:57 -0400 (Mon, 31 Mar 2025) EllapsedTime: 207.3 seconds RetCode: 0 Status: OK CheckDir: BiGGR.Rcheck Warnings: 0