Package: BiFET Version: 1.26.0 Command: /home/biocbuild/R/R/bin/R CMD INSTALL BiFET StartedAt: 2025-01-27 21:11:27 -0000 (Mon, 27 Jan 2025) EndedAt: 2025-01-27 21:11:38 -0000 (Mon, 27 Jan 2025) EllapsedTime: 11.2 seconds RetCode: 0 Status: OK