Package: BiFET Version: 1.26.0 Command: /home/biocbuild/R/R/bin/R CMD build --keep-empty-dirs --no-resave-data BiFET StartedAt: 2025-01-27 22:37:49 -0000 (Mon, 27 Jan 2025) EndedAt: 2025-01-27 22:39:00 -0000 (Mon, 27 Jan 2025) EllapsedTime: 71.0 seconds RetCode: 0 Status: OK PackageFile: BiFET_1.26.0.tar.gz PackageFileSize: 669.4 KiB