Package: BiFET Version: 1.26.0 Command: /home/biocbuild/bbs-3.20-bioc/R/bin/R CMD INSTALL BiFET StartedAt: 2025-02-03 15:20:03 -0500 (Mon, 03 Feb 2025) EndedAt: 2025-02-03 15:20:11 -0500 (Mon, 03 Feb 2025) EllapsedTime: 8.0 seconds RetCode: 0 Status: OK