Package: BiFET Version: 1.26.0 Command: /home/biocbuild/R/R/bin/R CMD build --keep-empty-dirs --no-resave-data BiFET StartedAt: 2024-11-19 23:08:09 -0000 (Tue, 19 Nov 2024) EndedAt: 2024-11-19 23:09:41 -0000 (Tue, 19 Nov 2024) EllapsedTime: 92.1 seconds RetCode: 0 Status: OK PackageFile: BiFET_1.26.0.tar.gz PackageFileSize: 669.4 KiB