Package: BiFET Version: 1.26.0 Command: /Library/Frameworks/R.framework/Resources/bin/R CMD check --install=check:BiFET.install-out.txt --library=/Library/Frameworks/R.framework/Resources/library --no-vignettes --timings BiFET_1.26.0.tar.gz StartedAt: 2024-11-08 21:04:12 -0500 (Fri, 08 Nov 2024) EndedAt: 2024-11-08 21:08:44 -0500 (Fri, 08 Nov 2024) EllapsedTime: 272.7 seconds RetCode: 0 Status: OK CheckDir: BiFET.Rcheck Warnings: 0