Package: BgeeDB Version: 2.32.0 Command: F:\biocbuild\bbs-3.20-bioc\R\bin\R.exe CMD check --no-multiarch --install=check:BgeeDB.install-out.txt --library=F:\biocbuild\bbs-3.20-bioc\R\library --no-vignettes --timings BgeeDB_2.32.0.tar.gz StartedAt: 2025-01-23 23:28:36 -0500 (Thu, 23 Jan 2025) EndedAt: 2025-01-23 23:44:19 -0500 (Thu, 23 Jan 2025) EllapsedTime: 942.8 seconds RetCode: 0 Status: OK CheckDir: BgeeDB.Rcheck Warnings: 0