Package: BgeeDB Version: 2.32.0 Command: /Library/Frameworks/R.framework/Resources/bin/R CMD build --keep-empty-dirs --no-resave-data BgeeDB StartedAt: 2025-02-03 17:17:46 -0500 (Mon, 03 Feb 2025) EndedAt: 2025-02-03 17:26:26 -0500 (Mon, 03 Feb 2025) EllapsedTime: 520.8 seconds RetCode: 0 Status: OK PackageFile: BgeeDB_2.32.0.tar.gz PackageFileSize: 106.8 KiB