Package: BgeeDB Version: 2.32.0 Command: rm -rf BgeeDB.buildbin-libdir && mkdir BgeeDB.buildbin-libdir && /Users/biocbuild/BBS/utils/build-universal.sh BgeeDB_2.32.0.tar.gz /Library/Frameworks/R.framework/Resources/bin/R BgeeDB.buildbin-libdir StartedAt: 2025-02-04 12:31:15 -0500 (Tue, 04 Feb 2025) EndedAt: 2025-02-04 12:32:38 -0500 (Tue, 04 Feb 2025) EllapsedTime: 82.8 seconds RetCode: 0 Status: OK PackageFile: BgeeDB_2.32.0.tgz PackageFileSize: 369 KiB