Package: BgeeCall Version: 1.22.0 Command: /home/biocbuild/R/R/bin/R CMD INSTALL BgeeCall StartedAt: 2025-03-31 20:40:34 -0000 (Mon, 31 Mar 2025) EndedAt: 2025-03-31 20:41:22 -0000 (Mon, 31 Mar 2025) EllapsedTime: 47.6 seconds RetCode: 0 Status: OK